BEGIN:VCALENDAR
VERSION:2.0
PRODID:-//English Chamber Orchestra - ECPv6.15.18//NONSGML v1.0//EN
CALSCALE:GREGORIAN
METHOD:PUBLISH
X-ORIGINAL-URL:https://englishchamberorchestra.com
X-WR-CALDESC:Events for English Chamber Orchestra
REFRESH-INTERVAL;VALUE=DURATION:PT1H
X-Robots-Tag:noindex
X-PUBLISHED-TTL:PT1H
BEGIN:VTIMEZONE
TZID:Europe/London
BEGIN:DAYLIGHT
TZOFFSETFROM:+0000
TZOFFSETTO:+0100
TZNAME:BST
DTSTART:20240331T010000
END:DAYLIGHT
BEGIN:STANDARD
TZOFFSETFROM:+0100
TZOFFSETTO:+0000
TZNAME:GMT
DTSTART:20241027T010000
END:STANDARD
BEGIN:DAYLIGHT
TZOFFSETFROM:+0000
TZOFFSETTO:+0100
TZNAME:BST
DTSTART:20250330T010000
END:DAYLIGHT
BEGIN:STANDARD
TZOFFSETFROM:+0100
TZOFFSETTO:+0000
TZNAME:GMT
DTSTART:20251026T010000
END:STANDARD
BEGIN:DAYLIGHT
TZOFFSETFROM:+0000
TZOFFSETTO:+0100
TZNAME:BST
DTSTART:20260329T010000
END:DAYLIGHT
BEGIN:STANDARD
TZOFFSETFROM:+0100
TZOFFSETTO:+0000
TZNAME:GMT
DTSTART:20261025T010000
END:STANDARD
END:VTIMEZONE
BEGIN:VEVENT
DTSTART;TZID=Europe/London:20251219T190000
DTEND;TZID=Europe/London:20251219T190000
DTSTAMP:20260421T205324
CREATED:20251209T113102Z
LAST-MODIFIED:20251210T124417Z
UID:4097-1766170800-1766170800@englishchamberorchestra.com
SUMMARY:Handel’s Messiah at the Strand
DESCRIPTION:What’s On...				\n				\n				\n				\n							\n			\n		\n						\n				\n					\n				\n		\n					\n				\n				\n					\n	Handel’s Messiah at the Strand				\n				\n					\n				\n		\n		\n				\n				\n					\n	\n				\n				\n				\n		\n				\n				\n					\n		\n			19 December\, 2025\n\n	\n\n	  @  \n\n\n7:00 pm\n\n			\n				\n				\n				\n				\n					venue				\n				\n				\n				\n									College Chapel\, King’s College London 								\n				\n				\n				\n							\n			\n						\n		\n						\n				\n				\n				\n									\n					\n						\n									BOOK TICKETS\n					\n					\n				\n								\n				\n				\n		\n				\n				\n							\n			\n		\n						\n				\n				\n				\n		\n					\n		\n				\n				\n									As we continue our partnership with King’s College London\, we are performing Handel’s Messiah with the Choir of King’s College London in the beautiful setting of the King’s College Chapel on the Strand. Since its first performance in 1742\, this work has enjoyed unbroken popularity with audiences worldwide and forms a staple part of the Christmas season for many music lovers. From the shepherds in the field to the Hallelujah Chorus\, this music is both beautiful and dramatic. 								\n				\n				\n					\n				\n		\n					\n				\n				\n							\n			\n		\n						\n				\n					\n				\n		\n					\n		\n				\n				\n					Programme				\n				\n				\n				\n									Handel  Messiah 								\n				\n				\n		\n				\n				\n					Performers				\n				\n				\n				\n									Choir of King’s College London: Choir English Chamber Orchestra: Orchestra
URL:https://englishchamberorchestra.com/concerts/handels-messiah-at-the-strand/
LOCATION:College Chapel\, King’s College London\, Kings College\, Strand Ln\, London\, WC2R 2LS
CATEGORIES:Concerts,King's College
ATTACH;FMTTYPE=image/png:https://englishchamberorchestra.com/wp-content/uploads/2025/12/Handels-Messiah-at-the-Strand-2025_v2-660x440-1.png
END:VEVENT
END:VCALENDAR